Package: ReactomePA Version: 1.54.0 Command: /Library/Frameworks/R.framework/Resources/bin/R CMD INSTALL ReactomePA StartedAt: 2025-11-03 15:45:24 -0500 (Mon, 03 Nov 2025) EndedAt: 2025-11-03 15:45:56 -0500 (Mon, 03 Nov 2025) EllapsedTime: 31.7 seconds RetCode: 0 Status: OK