Package: ReactomePA Version: 1.54.0 Command: /Library/Frameworks/R.framework/Resources/bin/R CMD build --keep-empty-dirs --no-resave-data ReactomePA StartedAt: 2025-11-03 18:24:52 -0500 (Mon, 03 Nov 2025) EndedAt: 2025-11-03 18:25:31 -0500 (Mon, 03 Nov 2025) EllapsedTime: 38.9 seconds RetCode: 0 Status: OK PackageFile: ReactomePA_1.54.0.tar.gz PackageFileSize: 57.18 KiB