Package: ReactomePA Version: 1.53.0 Command: /Library/Frameworks/R.framework/Resources/bin/R CMD INSTALL ReactomePA StartedAt: 2025-10-26 15:25:59 -0400 (Sun, 26 Oct 2025) EndedAt: 2025-10-26 15:26:09 -0400 (Sun, 26 Oct 2025) EllapsedTime: 10.0 seconds RetCode: 0 Status: OK