Package: ReactomePA Version: 1.53.0 Command: /Library/Frameworks/R.framework/Resources/bin/R CMD build --keep-empty-dirs --no-resave-data ReactomePA StartedAt: 2025-10-26 17:41:15 -0400 (Sun, 26 Oct 2025) EndedAt: 2025-10-26 17:41:26 -0400 (Sun, 26 Oct 2025) EllapsedTime: 11.1 seconds RetCode: 0 Status: OK PackageFile: ReactomePA_1.53.0.tar.gz PackageFileSize: 57.19 KiB