Package: ReactomePA Version: 1.54.0 Command: /Library/Frameworks/R.framework/Resources/bin/R CMD INSTALL ReactomePA StartedAt: 2025-11-17 18:18:34 -0500 (Mon, 17 Nov 2025) EndedAt: 2025-11-17 18:18:44 -0500 (Mon, 17 Nov 2025) EllapsedTime: 9.4 seconds RetCode: 0 Status: OK