Package: ReactomePA Version: 1.54.0 Command: rm -rf ReactomePA.buildbin-libdir && mkdir ReactomePA.buildbin-libdir && /Users/biocbuild/BBS/utils/build-universal.sh ReactomePA_1.54.0.tar.gz /Library/Frameworks/R.framework/Resources/bin/R ReactomePA.buildbin-libdir StartedAt: 2025-11-18 16:12:12 -0500 (Tue, 18 Nov 2025) EndedAt: 2025-11-18 16:12:25 -0500 (Tue, 18 Nov 2025) EllapsedTime: 12.2 seconds RetCode: 0 Status: OK PackageFile: ReactomePA_1.54.0.tgz PackageFileSize: 93.15 KiB