Package: ReactomePA Version: 1.54.0 Maintainer: Guangchuang Yu MaintainerEmail: guangchuangyu at gmail.com git_url: https://git.bioconductor.org/packages/ReactomePA git_branch: RELEASE_3_22 git_last_commit: 36f3c2f git_last_commit_date: 2025-10-29 10:10:37 -0500 (Wed, 29 Oct 2025)