Package: ReactomeGraph4R Version: 1.18.0 Command: /Library/Frameworks/R.framework/Resources/bin/R CMD INSTALL ReactomeGraph4R StartedAt: 2025-11-17 19:06:39 -0500 (Mon, 17 Nov 2025) EndedAt: 2025-11-17 19:06:40 -0500 (Mon, 17 Nov 2025) EllapsedTime: 0.4 seconds RetCode: 1 Status: ERROR