Package: ReactomeGraph4R Version: 1.18.0 Command: /Library/Frameworks/R.framework/Resources/bin/R CMD build --keep-empty-dirs --no-resave-data ReactomeGraph4R StartedAt: 2025-11-18 01:28:43 -0500 (Tue, 18 Nov 2025) EndedAt: 2025-11-18 01:28:45 -0500 (Tue, 18 Nov 2025) EllapsedTime: 2.0 seconds RetCode: 1 Status: ERROR PackageFile: None PackageFileSize: NA