Package: ReactomeGraph4R Version: 1.18.0 Command: /Library/Frameworks/R.framework/Resources/bin/R CMD build --keep-empty-dirs --no-resave-data ReactomeGraph4R StartedAt: 2025-11-18 00:06:58 -0500 (Tue, 18 Nov 2025) EndedAt: 2025-11-18 00:06:59 -0500 (Tue, 18 Nov 2025) EllapsedTime: 1.0 seconds RetCode: 1 Status: ERROR PackageFile: None PackageFileSize: NA