Package: ReactomeGSA Version: 1.24.0 Command: /home/biocbuild/bbs-3.22-bioc/R/bin/R CMD check --install=check:ReactomeGSA.install-out.txt --library=/home/biocbuild/bbs-3.22-bioc/R/site-library --timings ReactomeGSA_1.24.0.tar.gz StartedAt: 2025-11-07 03:06:55 -0500 (Fri, 07 Nov 2025) EndedAt: 2025-11-07 03:22:39 -0500 (Fri, 07 Nov 2025) EllapsedTime: 944.1 seconds RetCode: 1 Status: ERROR CheckDir: ReactomeGSA.Rcheck Warnings: NA