Package: ReactomeGSA Version: 1.23.0 Command: /home/biocbuild/bbs-3.22-bioc/R/bin/R CMD build --keep-empty-dirs --no-resave-data --md5 ReactomeGSA StartedAt: 2025-10-24 19:42:17 -0400 (Fri, 24 Oct 2025) EndedAt: 2025-10-24 19:46:43 -0400 (Fri, 24 Oct 2025) EllapsedTime: 266.3 seconds RetCode: 0 Status: OK PackageFile: ReactomeGSA_1.23.0.tar.gz PackageFileSize: 378.6 KiB