Package: ReactomeGSA Version: 1.23.0 Command: /Library/Frameworks/R.framework/Resources/bin/R CMD INSTALL ReactomeGSA StartedAt: 2025-10-24 15:51:21 -0400 (Fri, 24 Oct 2025) EndedAt: 2025-10-24 15:51:35 -0400 (Fri, 24 Oct 2025) EllapsedTime: 13.7 seconds RetCode: 0 Status: OK