Package: ReactomeGSA Version: 1.23.0 Command: /Library/Frameworks/R.framework/Resources/bin/R CMD build --keep-empty-dirs --no-resave-data ReactomeGSA StartedAt: 2025-10-24 18:25:26 -0400 (Fri, 24 Oct 2025) EndedAt: 2025-10-24 18:31:02 -0400 (Fri, 24 Oct 2025) EllapsedTime: 335.2 seconds RetCode: 0 Status: OK PackageFile: ReactomeGSA_1.23.0.tar.gz PackageFileSize: 399.9 KiB