Package: ReactomeGSA Version: 1.23.0 Command: /Library/Frameworks/R.framework/Resources/bin/R CMD build --keep-empty-dirs --no-resave-data ReactomeGSA StartedAt: 2025-10-26 17:41:11 -0400 (Sun, 26 Oct 2025) EndedAt: 2025-10-26 17:41:56 -0400 (Sun, 26 Oct 2025) EllapsedTime: 45.5 seconds RetCode: 1 Status: ERROR PackageFile: None PackageFileSize: NA