Package: ReUseData Version: 1.9.0 Command: /Library/Frameworks/R.framework/Resources/bin/R CMD INSTALL ReUseData StartedAt: 2025-10-28 15:07:15 -0400 (Tue, 28 Oct 2025) EndedAt: 2025-10-28 15:07:20 -0400 (Tue, 28 Oct 2025) EllapsedTime: 5.5 seconds RetCode: 0 Status: OK