Package: ReUseData Version: 1.9.0 Command: /Library/Frameworks/R.framework/Resources/bin/R CMD build --keep-empty-dirs --no-resave-data ReUseData StartedAt: 2025-10-28 17:29:01 -0400 (Tue, 28 Oct 2025) EndedAt: 2025-10-28 17:29:22 -0400 (Tue, 28 Oct 2025) EllapsedTime: 21.3 seconds RetCode: 0 Status: OK PackageFile: ReUseData_1.9.0.tar.gz PackageFileSize: 915.6 KiB