Package: Rdisop Version: 1.70.0 Command: /home/biocbuild/bbs-3.22-bioc/R/bin/R CMD INSTALL Rdisop StartedAt: 2025-11-17 16:41:31 -0500 (Mon, 17 Nov 2025) EndedAt: 2025-11-17 16:42:04 -0500 (Mon, 17 Nov 2025) EllapsedTime: 33.0 seconds RetCode: 0 Status: OK