Package: RcwlPipelines Version: 1.26.0 Command: /Library/Frameworks/R.framework/Resources/bin/R CMD INSTALL RcwlPipelines StartedAt: 2025-11-10 15:06:58 -0500 (Mon, 10 Nov 2025) EndedAt: 2025-11-10 15:07:04 -0500 (Mon, 10 Nov 2025) EllapsedTime: 6.3 seconds RetCode: 0 Status: OK