Package: RcwlPipelines Version: 1.26.0 Command: /Library/Frameworks/R.framework/Resources/bin/R CMD build --keep-empty-dirs --no-resave-data RcwlPipelines StartedAt: 2025-11-10 17:28:30 -0500 (Mon, 10 Nov 2025) EndedAt: 2025-11-10 17:28:45 -0500 (Mon, 10 Nov 2025) EllapsedTime: 15.2 seconds RetCode: 0 Status: OK PackageFile: RcwlPipelines_1.26.0.tar.gz PackageFileSize: 877.4 KiB