Package: RcisTarget Version: 1.29.0 Command: /home/biocbuild/bbs-3.22-bioc/R/bin/R CMD build --keep-empty-dirs --no-resave-data --md5 RcisTarget StartedAt: 2025-10-24 19:40:52 -0400 (Fri, 24 Oct 2025) EndedAt: 2025-10-24 19:42:13 -0400 (Fri, 24 Oct 2025) EllapsedTime: 81.1 seconds RetCode: 0 Status: OK PackageFile: RcisTarget_1.29.0.tar.gz PackageFileSize: 12.8 MiB