Package: RcisTarget Version: 1.30.0 Command: /Library/Frameworks/R.framework/Resources/bin/R CMD INSTALL RcisTarget StartedAt: 2025-11-10 15:18:22 -0500 (Mon, 10 Nov 2025) EndedAt: 2025-11-10 15:18:37 -0500 (Mon, 10 Nov 2025) EllapsedTime: 15.9 seconds RetCode: 0 Status: OK