Package: RcisTarget Version: 1.30.0 Command: /Library/Frameworks/R.framework/Resources/bin/R CMD build --keep-empty-dirs --no-resave-data RcisTarget StartedAt: 2025-11-10 17:28:05 -0500 (Mon, 10 Nov 2025) EndedAt: 2025-11-10 17:28:43 -0500 (Mon, 10 Nov 2025) EllapsedTime: 38.4 seconds RetCode: 0 Status: OK PackageFile: RcisTarget_1.30.0.tar.gz PackageFileSize: 12.84 MiB