Package: RcisTarget Version: 1.30.0 Command: rm -rf RcisTarget.buildbin-libdir && mkdir RcisTarget.buildbin-libdir && /Users/biocbuild/BBS/utils/build-universal.sh RcisTarget_1.30.0.tar.gz /Library/Frameworks/R.framework/Resources/bin/R RcisTarget.buildbin-libdir StartedAt: 2025-11-10 23:32:43 -0500 (Mon, 10 Nov 2025) EndedAt: 2025-11-10 23:32:58 -0500 (Mon, 10 Nov 2025) EllapsedTime: 15.3 seconds RetCode: 0 Status: OK PackageFile: RcisTarget_1.30.0.tgz PackageFileSize: 13.01 MiB