Package: Rbowtie2 Version: 2.16.0 Command: /home/biocbuild/bbs-3.22-bioc/R/bin/R CMD INSTALL Rbowtie2 StartedAt: 2025-10-29 21:32:51 -0400 (Wed, 29 Oct 2025) EndedAt: 2025-10-29 21:37:50 -0400 (Wed, 29 Oct 2025) EllapsedTime: 299.5 seconds RetCode: 0 Status: OK