Package: Rbowtie2 Version: 2.16.0 Command: /home/biocbuild/bbs-3.22-bioc/R/bin/R CMD build --keep-empty-dirs --no-resave-data --md5 Rbowtie2 StartedAt: 2025-10-30 01:56:51 -0400 (Thu, 30 Oct 2025) EndedAt: 2025-10-30 02:01:50 -0400 (Thu, 30 Oct 2025) EllapsedTime: 299.3 seconds RetCode: 0 Status: OK PackageFile: Rbowtie2_2.16.0.tar.gz PackageFileSize: 1.728 MiB