Package: Rbec Version: 1.18.0 Command: /home/biocbuild/bbs-3.22-bioc/R/bin/R CMD INSTALL Rbec StartedAt: 2025-11-17 18:07:36 -0500 (Mon, 17 Nov 2025) EndedAt: 2025-11-17 18:08:21 -0500 (Mon, 17 Nov 2025) EllapsedTime: 45.4 seconds RetCode: 0 Status: OK