Package: Rarr Version: 1.10.1 Command: /home/biocbuild/bbs-3.22-bioc/R/bin/R CMD INSTALL Rarr StartedAt: 2025-11-17 17:16:15 -0500 (Mon, 17 Nov 2025) EndedAt: 2025-11-17 17:17:18 -0500 (Mon, 17 Nov 2025) EllapsedTime: 62.9 seconds RetCode: 0 Status: OK