Package: Rarr Version: 1.10.1 Command: /home/biocbuild/bbs-3.22-bioc/R/bin/R CMD build --keep-empty-dirs --no-resave-data --md5 Rarr StartedAt: 2025-11-17 22:55:46 -0500 (Mon, 17 Nov 2025) EndedAt: 2025-11-17 22:57:15 -0500 (Mon, 17 Nov 2025) EllapsedTime: 89.1 seconds RetCode: 0 Status: OK PackageFile: Rarr_1.10.1.tar.gz PackageFileSize: 1.419 MiB