Package: RareVariantVis Version: 2.37.0 Command: /home/biocbuild/bbs-3.22-bioc/R/bin/R CMD INSTALL RareVariantVis StartedAt: 2025-10-24 16:10:29 -0400 (Fri, 24 Oct 2025) EndedAt: 2025-10-24 16:11:14 -0400 (Fri, 24 Oct 2025) EllapsedTime: 45.7 seconds RetCode: 0 Status: OK