Package: RaggedExperiment Version: 1.34.0 Command: /home/biocbuild/bbs-3.22-bioc/R/bin/R CMD INSTALL RaggedExperiment StartedAt: 2025-11-10 15:22:28 -0500 (Mon, 10 Nov 2025) EndedAt: 2025-11-10 15:22:50 -0500 (Mon, 10 Nov 2025) EllapsedTime: 22.2 seconds RetCode: 0 Status: OK