Package: RVS Version: 1.32.0 Command: /home/biocbuild/bbs-3.22-bioc/R/bin/R CMD INSTALL RVS StartedAt: 2025-11-20 16:02:39 -0500 (Thu, 20 Nov 2025) EndedAt: 2025-11-20 16:02:48 -0500 (Thu, 20 Nov 2025) EllapsedTime: 9.6 seconds RetCode: 0 Status: OK