Package: RUVnormalize Version: 1.43.0 Command: /home/biocbuild/bbs-3.22-bioc/R/bin/R CMD INSTALL RUVnormalize StartedAt: 2025-10-24 16:08:22 -0400 (Fri, 24 Oct 2025) EndedAt: 2025-10-24 16:08:25 -0400 (Fri, 24 Oct 2025) EllapsedTime: 3.3 seconds RetCode: 0 Status: OK