Package: RUVnormalize Version: 1.43.0 Command: /home/biocbuild/bbs-3.22-bioc/R/bin/R CMD build --keep-empty-dirs --no-resave-data --md5 RUVnormalize StartedAt: 2025-10-24 19:54:54 -0400 (Fri, 24 Oct 2025) EndedAt: 2025-10-24 19:55:07 -0400 (Fri, 24 Oct 2025) EllapsedTime: 13.0 seconds RetCode: 0 Status: OK PackageFile: RUVnormalize_1.43.0.tar.gz PackageFileSize: 191.9 KiB