Package: RUVnormalize Version: 1.44.0 Command: /Library/Frameworks/R.framework/Resources/bin/R CMD INSTALL RUVnormalize StartedAt: 2025-11-10 15:30:54 -0500 (Mon, 10 Nov 2025) EndedAt: 2025-11-10 15:30:57 -0500 (Mon, 10 Nov 2025) EllapsedTime: 2.2 seconds RetCode: 0 Status: OK