Package: RUVnormalize Version: 1.44.0 Command: /Library/Frameworks/R.framework/Resources/bin/R CMD build --keep-empty-dirs --no-resave-data RUVnormalize StartedAt: 2025-11-10 17:35:55 -0500 (Mon, 10 Nov 2025) EndedAt: 2025-11-10 17:36:04 -0500 (Mon, 10 Nov 2025) EllapsedTime: 9.1 seconds RetCode: 0 Status: OK PackageFile: RUVnormalize_1.44.0.tar.gz PackageFileSize: 190.7 KiB