Package: RUVnormalize Version: 1.44.0 Command: rm -rf RUVnormalize.buildbin-libdir && mkdir RUVnormalize.buildbin-libdir && /Users/biocbuild/BBS/utils/build-universal.sh RUVnormalize_1.44.0.tar.gz /Library/Frameworks/R.framework/Resources/bin/R RUVnormalize.buildbin-libdir StartedAt: 2025-11-10 23:34:53 -0500 (Mon, 10 Nov 2025) EndedAt: 2025-11-10 23:34:55 -0500 (Mon, 10 Nov 2025) EllapsedTime: 2.1 seconds RetCode: 0 Status: OK PackageFile: RUVnormalize_1.44.0.tgz PackageFileSize: 222 KiB