Package: RUVcorr Version: 1.41.0 Command: /home/biocbuild/bbs-3.22-bioc/R/bin/R CMD INSTALL RUVcorr StartedAt: 2025-10-28 15:12:11 -0400 (Tue, 28 Oct 2025) EndedAt: 2025-10-28 15:12:16 -0400 (Tue, 28 Oct 2025) EllapsedTime: 4.8 seconds RetCode: 0 Status: OK