Package: RTopper Version: 1.56.0 Command: /home/biocbuild/bbs-3.22-bioc/R/bin/R CMD INSTALL RTopper StartedAt: 2025-11-02 15:20:01 -0500 (Sun, 02 Nov 2025) EndedAt: 2025-11-02 15:20:08 -0500 (Sun, 02 Nov 2025) EllapsedTime: 7.0 seconds RetCode: 0 Status: OK