Package: RTCGAToolbox Version: 2.40.0 Command: /Library/Frameworks/R.framework/Resources/bin/R CMD INSTALL RTCGAToolbox StartedAt: 2025-10-30 15:36:55 -0400 (Thu, 30 Oct 2025) EndedAt: 2025-10-30 15:37:28 -0400 (Thu, 30 Oct 2025) EllapsedTime: 33.7 seconds RetCode: 0 Status: OK