Package: RTCGAToolbox Version: 2.40.0 Command: /Library/Frameworks/R.framework/Resources/bin/R CMD build --keep-empty-dirs --no-resave-data RTCGAToolbox StartedAt: 2025-10-30 18:25:34 -0400 (Thu, 30 Oct 2025) EndedAt: 2025-10-30 18:26:24 -0400 (Thu, 30 Oct 2025) EllapsedTime: 50.1 seconds RetCode: 0 Status: OK PackageFile: RTCGAToolbox_2.40.0.tar.gz PackageFileSize: 2.329 MiB