Package: RTCGAToolbox Version: 2.40.0 Command: rm -rf RTCGAToolbox.buildbin-libdir && mkdir RTCGAToolbox.buildbin-libdir && /Users/biocbuild/BBS/utils/build-universal.sh RTCGAToolbox_2.40.0.tar.gz /Library/Frameworks/R.framework/Resources/bin/R RTCGAToolbox.buildbin-libdir StartedAt: 2025-10-31 01:45:07 -0400 (Fri, 31 Oct 2025) EndedAt: 2025-10-31 01:45:44 -0400 (Fri, 31 Oct 2025) EllapsedTime: 37.0 seconds RetCode: 0 Status: OK PackageFile: RTCGAToolbox_2.40.0.tgz PackageFileSize: 629.9 KiB