Package: RTCGA Version: 1.40.0 Command: /Library/Frameworks/R.framework/Resources/bin/R CMD INSTALL RTCGA StartedAt: 2025-11-03 15:17:52 -0500 (Mon, 03 Nov 2025) EndedAt: 2025-11-03 15:18:22 -0500 (Mon, 03 Nov 2025) EllapsedTime: 30.2 seconds RetCode: 0 Status: OK