Package: RTCGA Version: 1.40.0 Command: /Library/Frameworks/R.framework/Resources/bin/R CMD build --keep-empty-dirs --no-resave-data RTCGA StartedAt: 2025-11-03 18:33:34 -0500 (Mon, 03 Nov 2025) EndedAt: 2025-11-03 18:33:52 -0500 (Mon, 03 Nov 2025) EllapsedTime: 18.3 seconds RetCode: 0 Status: OK PackageFile: RTCGA_1.40.0.tar.gz PackageFileSize: 2.437 MiB