Package: RTCGA Version: 1.40.0 Command: /Library/Frameworks/R.framework/Resources/bin/R CMD INSTALL RTCGA StartedAt: 2025-11-10 15:06:16 -0500 (Mon, 10 Nov 2025) EndedAt: 2025-11-10 15:06:23 -0500 (Mon, 10 Nov 2025) EllapsedTime: 6.9 seconds RetCode: 0 Status: OK