Package: RTCGA Version: 1.40.0 Command: rm -rf RTCGA.buildbin-libdir && mkdir RTCGA.buildbin-libdir && /Users/biocbuild/BBS/utils/build-universal.sh RTCGA_1.40.0.tar.gz /Library/Frameworks/R.framework/Resources/bin/R RTCGA.buildbin-libdir StartedAt: 2025-11-10 23:34:39 -0500 (Mon, 10 Nov 2025) EndedAt: 2025-11-10 23:34:44 -0500 (Mon, 10 Nov 2025) EllapsedTime: 5.1 seconds RetCode: 0 Status: OK PackageFile: RTCGA_1.40.0.tgz PackageFileSize: 2.535 MiB