Package: RTCGA Version: 1.40.0 Command: /Library/Frameworks/R.framework/Resources/bin/R CMD INSTALL RTCGA StartedAt: 2025-11-17 17:09:07 -0500 (Mon, 17 Nov 2025) EndedAt: 2025-11-17 17:09:11 -0500 (Mon, 17 Nov 2025) EllapsedTime: 4.4 seconds RetCode: 0 Status: OK