Package: RTCGA Version: 1.40.0 Command: /Library/Frameworks/R.framework/Resources/bin/R CMD build --keep-empty-dirs --no-resave-data RTCGA StartedAt: 2025-11-18 00:26:16 -0500 (Tue, 18 Nov 2025) EndedAt: 2025-11-18 00:26:22 -0500 (Tue, 18 Nov 2025) EllapsedTime: 6.1 seconds RetCode: 0 Status: OK PackageFile: RTCGA_1.40.0.tar.gz PackageFileSize: 2.437 MiB