Package: RTCGA Version: 1.40.0 Command: rm -rf RTCGA.buildbin-libdir && mkdir RTCGA.buildbin-libdir && /Users/biocbuild/BBS/utils/build-universal.sh RTCGA_1.40.0.tar.gz /Library/Frameworks/R.framework/Resources/bin/R RTCGA.buildbin-libdir StartedAt: 2025-11-18 16:18:31 -0500 (Tue, 18 Nov 2025) EndedAt: 2025-11-18 16:18:38 -0500 (Tue, 18 Nov 2025) EllapsedTime: 7.1 seconds RetCode: 0 Status: OK PackageFile: RTCGA_1.40.0.tgz PackageFileSize: 2.535 MiB