Package: RTCA Version: 1.62.0 Command: /Library/Frameworks/R.framework/Resources/bin/R CMD build --keep-empty-dirs --no-resave-data RTCA StartedAt: 2025-11-10 17:35:19 -0500 (Mon, 10 Nov 2025) EndedAt: 2025-11-10 17:35:26 -0500 (Mon, 10 Nov 2025) EllapsedTime: 7.1 seconds RetCode: 0 Status: OK PackageFile: RTCA_1.62.0.tar.gz PackageFileSize: 335.8 KiB